Workbook

Sheet Sources
A1: EQR Per Share Analysis (Supplementals, 10-Q and 10-K): Master Source List
A3: Tab | B3: Series / Metric | C3: Source Organization | D3: Source Type | E3: Source Location | F3: Update Cadence | G3: Last Verified
A4: Quarterly Data | B4: 2016: discrete NOI recon, FFO/Normalized FFO, EBITDA/EBITDAre (2018+), Normalized EBITDA(re), capex schedule YTD, Capital Structure (QE price, shares/units, debt, preferred, market cap), balance sheet dev/land and debt lines | C4: Equity Residential | D4: Primary (company filings) | E4: REIT FILES/EQR/: EQR-SUPP-Q1-2016.pdf .. EQR-SUPP-Q4-2016.pdf (each quarter's earnings release + supplemental) | F4: Frozen | G4: 2026-08-30
A5: Quarterly Data | B5: 2016: CFO YTD, dividends declared (per share and YTD totals from equity statements) | C5: Equity Residential | D5: Primary (company filings) | E5: REIT FILES/EQR/: EQR-10Q-Q1-2016.pdf .. EQR-10Q-Q3-2016.pdf; EQR-10K-2016.pdf | F5: Frozen | G5: 2026-08-30
A6: Quarterly Data | B6: 2017: discrete NOI recon, FFO/Normalized FFO, EBITDA/EBITDAre (2018+), Normalized EBITDA(re), capex schedule YTD, Capital Structure (QE price, shares/units, debt, preferred, market cap), balance sheet dev/land and debt lines | C6: Equity Residential | D6: Primary (company filings) | E6: REIT FILES/EQR/: EQR-SUPP-Q1-2017.pdf .. EQR-SUPP-Q4-2017.pdf (each quarter's earnings release + supplemental) | F6: Frozen | G6: 2026-08-30
A7: Quarterly Data | B7: 2017: CFO YTD, dividends declared (per share and YTD totals from equity statements) | C7: Equity Residential | D7: Primary (company filings) | E7: REIT FILES/EQR/: EQR-10Q-Q1-2017.pdf .. EQR-10Q-Q3-2017.pdf; EQR-10K-2017.pdf | F7: Frozen | G7: 2026-08-30
A8: Quarterly Data | B8: 2018: discrete NOI recon, FFO/Normalized FFO, EBITDA/EBITDAre (2018+), Normalized EBITDA(re), capex schedule YTD, Capital Structure (QE price, shares/units, debt, preferred, market cap), balance sheet dev/land and debt lines | C8: Equity Residential | D8: Primary (company filings) | E8: REIT FILES/EQR/: EQR-SUPP-Q1-2018.pdf .. EQR-SUPP-Q4-2018.pdf (each quarter's earnings release + supplemental) | F8: Frozen | G8: 2026-08-30
A9: Quarterly Data | B9: 2018: CFO YTD, dividends declared (per share and YTD totals from equity statements) | C9: Equity Residential | D9: Primary (company filings) | E9: REIT FILES/EQR/: EQR-10Q-Q1-2018.pdf .. EQR-10Q-Q3-2018.pdf; EQR-10K-2018.pdf | F9: Frozen | G9: 2026-08-30
A10: Quarterly Data | B10: 2019: discrete NOI recon, FFO/Normalized FFO, EBITDA/EBITDAre (2018+), Normalized EBITDA(re), capex schedule YTD, Capital Structure (QE price, shares/units, debt, preferred, market cap), balance sheet dev/land and debt lines | C10: Equity Residential | D10: Primary (company filings) | E10: REIT FILES/EQR/: EQR-SUPP-Q1-2019.pdf .. EQR-SUPP-Q4-2019.pdf (each quarter's earnings release + supplemental) | F10: Frozen | G10: 2026-08-30
A11: Quarterly Data | B11: 2019: CFO YTD, dividends declared (per share and YTD totals from equity statements) | C11: Equity Residential | D11: Primary (company filings) | E11: REIT FILES/EQR/: EQR-10Q-Q1-2019.pdf .. EQR-10Q-Q3-2019.pdf; EQR-10K-2019.pdf | F11: Frozen | G11: 2026-08-30
A12: Quarterly Data | B12: 2020: discrete NOI recon, FFO/Normalized FFO, EBITDA/EBITDAre (2018+), Normalized EBITDA(re), capex schedule YTD, Capital Structure (QE price, shares/units, debt, preferred, market cap), balance sheet dev/land and debt lines | C12: Equity Residential | D12: Primary (company filings) | E12: REIT FILES/EQR/: EQR-SUPP-Q1-2020.pdf .. EQR-SUPP-Q4-2020.pdf (each quarter's earnings release + supplemental) | F12: Frozen | G12: 2026-08-30
A13: Quarterly Data | B13: 2020: CFO YTD, dividends declared (per share and YTD totals from equity statements) | C13: Equity Residential | D13: Primary (company filings) | E13: REIT FILES/EQR/: EQR-10Q-Q1-2020.pdf .. EQR-10Q-Q3-2020.pdf; EQR-10K-2020.pdf | F13: Frozen | G13: 2026-08-30
A14: Quarterly Data | B14: 2021: discrete NOI recon, FFO/Normalized FFO, EBITDA/EBITDAre (2018+), Normalized EBITDA(re), capex schedule YTD, Capital Structure (QE price, shares/units, debt, preferred, market cap), balance sheet dev/land and debt lines | C14: Equity Residential | D14: Primary (company filings) | E14: REIT FILES/EQR/: EQR-SUPP-Q1-2021.pdf .. EQR-SUPP-Q4-2021.pdf (each quarter's earnings release + supplemental) | F14: Frozen | G14: 2026-08-30
... A27: Quarterly / Quarterly Stabilized / CHARTS / CHARTS STAB / Per Share / Whole Numbers | B27: All cells derive from Quarterly Data | C27: CRE42 | D27: Internal | E27: Formulas; no independent inputs | F27: - | G27: 2026-08-30
A29: Decisions
A30: Decisions | B30: Scope per Chip 2026-08-30: EQR quarterly per-share workbook and page mirror the AVB pair (multifamily-reit-avb.html / AVB-individual-metrics.xlsx); same tab and row skeleton, 42-quarter grid Q1 2016 - Q2 2026.
A31: Decisions | B31: STABILIZED BASIS per Chip 2026-08-30: balance-sheet "Projects under development" + "Land held for development" (consolidated). Unconsolidated JV development is not on these lines and is excluded, flagged. Analogous to AVB option (a).
A32: Decisions | B32: RECURRING CAPEX / AFFO per Chip 2026-08-30: Building Improvements + Replacements (supplemental capex schedule) through Q1 2024; the published "Recurring Capital Expenditures" line from Q2 2024 (first published in the Q2 2024 supplemental). 2016 and H1 2017 vintages include renovation spend inside Replacements (no consolidated split disclosed): carried AS PRINTED, flagged; FY2016 AFFO is understated by roughly the renovation spend (same-store footnote: $47.0M). AFFO = Normalized FFO available to Common Shares and Units less recurring capex; EQR publishes no AFFO, no tie-out.
A33: Decisions | B33: EBITDAre SERIES per Chip 2026-08-30: published EBITDAre 2018+ (exact, Nareit definition, first published Q1 2018); 2016-2017 derived (EBITDA derived + reversal of RE sale gains + impairment), flagged. EQR makes no unconsolidated-JV adjustment in its published EBITDAre (immateriality note), so none is derived.
A34: Decisions | B34: INTEREST EXPENSE per Chip 2026-08-30: interest expense incurred, net PLUS amortization of deferred financing costs (EQR splits the two lines; AVB's single GAAP interest line includes both). Used in leveraged cash flow, the EBITDA walk, and the annual interest row.
A35: Decisions | B35: NOI: consolidated Total NOI, own-vintage discrete quarters. EQR does NOT re-base published Total NOI, so quarter sums equal each FY vintage exactly (row 143 must be 0; contrast AVB drift row).
A36: Decisions | B36: DEBT at balance-sheet CARRYING value (MF-workbook convention); the three balance-sheet debt lines sum exactly to the published Capital Structure total debt in all 42 quarters.
A37: Decisions | B37: MARKET CAP AND PRICES: quarter-end closing price, shares/units, common+units equity value, preferred liquidation value and Total Market Capitalization are all PUBLISHED on the supplemental Capital Structure page (no external price file, unlike AVB). Tie-outs: row 56 x-check vs row 74; TEV (row 63, incl. preferred) vs published Total Market Capitalization (row 64). Chip 2026-08-30.
A38: Decisions | B38: TEV includes perpetual preferred at liquidation value (Series K; $37.3M in 2016 declining to $17.2M by 2026), matching the published Total Market Capitalization construction.
A39: Decisions | B39: DIVIDENDS on DECLARED basis. Per-share rows carry the REGULAR dividend; 2016 specials ($8.00 declared Q1, $3.00 declared Q3, Starwood-sale proceeds) are carried on a separate row (80) and inside the whole-dollar totals (row 77, YTD/FY differenced from 10-Q/10-K equity statements, Common Shares line). Yields use the regular dividend.
A40: Decisions | B40: Quarterly trailing ratios annualized x4 on quarter-end denominators (QE/YE price standard, Chip 2026-08-18). Intra-tab ratio convention per Chip 2026-08-18: ratio rows compute from that tab's own per-share rows.
A41: Decisions | B41: Q4 2017 supplemental has a glyph-scrambled text layer (custom font); figures were decoded by substitution map AND verified visually against rendered PDF pages (capital structure, NOI reconciliation, FFO statement) on 2026-08-30.
... A44: Decisions | B44: Extraction: 11 parallel per-year passes against each quarter's own supplemental + 10-Q/10-K (two-documents rule, content-verified); NOI walk reconstructed from operating income for 2016-2022 vintages and tied exactly to published Total NOI in all 42 quarters; FY NOI/FFO/NFFO corroborated exactly against following-year vintages. Per-figure citations: Data Link Files/eqr-extraction-citations.zip.
A46: Legend
B47: Blue text: hardcoded input from a cited source. Black: formulas. All dollar inputs $000s unless the row says $M; shares/units in 000s; prices $.

Sheet Per Share
A1: EQR: Per-Share Figures ($) - FY2025 and Q2 2026; flows on weighted average diluted Common Shares and Units
A3: Metric | B3: FY2025 | C3: Q2 2026
A4: Weighted average diluted Common Shares and Units (000s) | B4: =AVERAGE('Quarterly Data'!AL51:AO51) -> 390597.75 | C4: ='Quarterly Data'!AQ51 -> 383878
A5: NOI per share | B5: ='Whole Numbers'!B4/$B$4 -> 5.3221018 | C5: ='Whole Numbers'!C4/$C$4 -> 1.354696
A6: EBITDAre (published) per share | B6: ='Whole Numbers'!B5/$B$4 -> 4.7489802 | C6: ='Whole Numbers'!C5/$C$4 -> 1.2166209
A7: FFO available to Common Shares and Units per share | B7: ='Whole Numbers'!B6/$B$4 -> 3.9390396 | C7: ='Whole Numbers'!C6/$C$4 -> 0.99630872
A8: Normalized FFO available to Common Shares and Units per share | B8: ='Whole Numbers'!B7/$B$4 -> 3.98979 | C8: ='Whole Numbers'!C7/$C$4 -> 1.024724
A9: Recurring capex (BI + Replacements / published Recurring, discrete summed) per share | B9: ='Whole Numbers'!B8/$B$4 -> 0.49624198 | C9: ='Whole Numbers'!C8/$C$4 -> 0.15365819
A10: AFFO (Normalized FFO less recurring capex) per share | B10: ='Whole Numbers'!B9/$B$4 -> 3.493548 | C10: ='Whole Numbers'!C9/$C$4 -> 0.87106581
A11: Interest expense (incurred net + amort DFC) per share | B11: ='Whole Numbers'!B10/$B$4 -> 0.80790532 | C11: ='Whole Numbers'!C10/$C$4 -> 0.22040075
A12: CFO (discrete summed) per share | B12: ='Whole Numbers'!B11/$B$4 -> 4.2211277 | C12: ='Whole Numbers'!C11/$C$4 -> 0.78640349
A13: Dividends declared, total per share (incl. specials) | B13: ='Whole Numbers'!B12/$B$4 -> 2.6923632 | C13: ='Whole Numbers'!C12/$C$4 -> 0.68601483

Sheet Whole Numbers
A1: EQR: Whole-Company Figures ($000s) - FY2025 (twelve months) and Q2 2026 (three months), as reported
A3: Metric | B3: FY2025 | C3: Q2 2026
A4: NOI | B4: =('Quarterly Data'!AL23+'Quarterly Data'!AM23+'Quarterly Data'!AN23+'Quarterly Data'!AO23) -> 2078801 | C4: ='Quarterly Data'!AQ23 -> 520038
A5: EBITDAre (published) | B5: =('Quarterly Data'!AL35+'Quarterly Data'!AM35+'Quarterly Data'!AN35+'Quarterly Data'!AO35) -> 1854941 | C5: ='Quarterly Data'!AQ35 -> 467034
A6: FFO available to Common Shares and Units | B6: =('Quarterly Data'!AL26+'Quarterly Data'!AM26+'Quarterly Data'!AN26+'Quarterly Data'!AO26) -> 1538580 | C6: ='Quarterly Data'!AQ26 -> 382461
A7: Normalized FFO available to Common Shares and Units | B7: =('Quarterly Data'!AL27+'Quarterly Data'!AM27+'Quarterly Data'!AN27+'Quarterly Data'!AO27) -> 1558403 | C7: ='Quarterly Data'!AQ27 -> 393369
A8: Recurring capex (BI + Replacements / published Recurring, discrete summed) | B8: =('Quarterly Data'!AL44+'Quarterly Data'!AM44+'Quarterly Data'!AN44+'Quarterly Data'!AO44) -> 193831 | C8: ='Quarterly Data'!AQ44 -> 58986
A9: AFFO (Normalized FFO less recurring capex) | B9: =('Quarterly Data'!AL45+'Quarterly Data'!AM45+'Quarterly Data'!AN45+'Quarterly Data'!AO45) -> 1364572 | C9: ='Quarterly Data'!AQ45 -> 334383
A10: Interest expense (incurred net + amort DFC) | B10: =('Quarterly Data'!AL10+'Quarterly Data'!AM10+'Quarterly Data'!AN10+'Quarterly Data'!AO10+'Quarterly Data'!AL11+'Quarterly Data'!AM11+'Quarterly Data'!AN11+'Quarterly Data'!AO11) -> 315566 | C10: ='Quarterly Data'!AQ10+'Quarterly Data'!AQ11 -> 84607
A11: CFO (discrete summed) | B11: =('Quarterly Data'!AL48+'Quarterly Data'!AM48+'Quarterly Data'!AN48+'Quarterly Data'!AO48) -> 1648763 | C11: ='Quarterly Data'!AQ48 -> 301883
A12: Dividends declared, total common | B12: =('Quarterly Data'!AL77+'Quarterly Data'!AM77+'Quarterly Data'!AN77+'Quarterly Data'!AO77) -> 1051631 | C12: ='Quarterly Data'!AQ77 -> 263346
A14: Total debt, carrying (12/31/2025 | 6/30/2026) | B14: ='Quarterly Data'!AO60 -> 8175010 | C14: ='Quarterly Data'!AQ60 -> 8261669
A15: Equity market cap (12/31/2025 | 6/30/2026) | B15: ='Quarterly Data'!AO56 -> 24404772 | C15: ='Quarterly Data'!AQ56 -> 26095348
A16: TEV (12/31/2025 | 6/30/2026) | B16: ='Quarterly Data'!AO63 -> 32596937 | C16: ='Quarterly Data'!AQ63 -> 34374172
A17: Dev & land value (12/31/2025 | 6/30/2026) | B17: ='Quarterly Data'!AO68 -> 186902 | C17: ='Quarterly Data'!AQ68 -> 116630
A18: Stabilized market cap (12/31/2025 | 6/30/2026) | B18: ='Quarterly Data'!AO72 -> 24217870 | C18: ='Quarterly Data'!AQ72 -> 25978718
A19: Stabilized TEV (12/31/2025 | 6/30/2026) | B19: ='Quarterly Data'!AO73 -> 32410035 | C19: ='Quarterly Data'!AQ73 -> 34257542
A20: Shares + units EOP (000s) (12/31/2025 | 6/30/2026) | B20: ='Quarterly Data'!AO54 -> 387131.54 | C20: ='Quarterly Data'!AQ54 -> 384150.57
A21: Weighted avg diluted shares (000s, Q4/Q2) (12/31/2025 | 6/30/2026) | B21: ='Quarterly Data'!AO51 -> 388748 | C21: ='Quarterly Data'!AQ51 -> 383878
A22: Price per share EOY/EOQ ($) (12/31/2025 | 6/30/2026) | B22: ='Quarterly Data'!AO55 -> 63.04 | C22: ='Quarterly Data'!AQ55 -> 67.93

Sheet Quarterly
A1: EQR: Quarterly Results Per Share, Q1 2016 - Q2 2026
A2: Per share, $. Discrete quarters, not annualized, except the italic ratio rows: quarter x4 over the quarter-end denominator. Flow metrics divide by weighted average diluted Common Shares and Units.
B4: Q1 16 | C4: Q2 16 | D4: Q3 16 | E4: Q4 16 | F4: Q1 17 | G4: Q2 17 | H4: Q3 17 | I4: Q4 17 | J4: Q1 18 | K4: Q2 18 | L4: Q3 18 | M4: Q4 18 | N4: Q1 19 | O4: Q2 19 | P4: Q3 19 | Q4: Q4 19 | R4: Q1 20 | S4: Q2 20 | T4: Q3 20 | U4: Q4 20 | V4: Q1 21 | W4: Q2 21 | X4: Q3 21 | Y4: Q4 21 | Z4: Q1 22 | AA4: Q2 22 | AB4: Q3 22 | AC4: Q4 22 | AD4: Q1 23 | AE4: Q2 23 | AF4: Q3 23 | AG4: Q4 23 | AH4: Q1 24 | AI4: Q2 24 | AJ4: Q3 24 | AK4: Q4 24 | AL4: Q1 25 | AM4: Q2 25 | AN4: Q3 25 | AO4: Q4 25 | AP4: Q1 26 | AQ4: Q2 26
A5: Capitalization at quarter end (quarter-end closing price from the supplemental Capital Structure page; every price denominator in this workbook uses quarter-end closes)
A6: Share price at quarter end ($) | B6: ='Quarterly Data'!B55 -> 75.03 | C6: ='Quarterly Data'!C55 -> 68.88 | D6: ='Quarterly Data'!D55 -> 64.33 | E6: ='Quarterly Data'!E55 -> 64.36 | F6: ='Quarterly Data'!F55 -> 62.22 | G6: ='Quarterly Data'!G55 -> 65.83 | H6: ='Quarterly Data'!H55 -> 65.93 | I6: ='Quarterly Data'!I55 -> 63.77 | ... AQ6: ='Quarterly Data'!AQ55 -> 67.93
A7: Equity market cap ($M) | B7: ='Quarterly Data'!B56/1000 -> 28526.406 | C7: ='Quarterly Data'!C56/1000 -> 26192.171 | D7: ='Quarterly Data'!D56/1000 -> 24463.734 | E7: ='Quarterly Data'!E56/1000 -> 24488.787 | F7: ='Quarterly Data'!F56/1000 -> 23703.657 | G7: ='Quarterly Data'!G56/1000 -> 25088.794 | H7: ='Quarterly Data'!H56/1000 -> 25137.294 | I7: ='Quarterly Data'!I56/1000 -> 24346.526 | ... AQ7: ='Quarterly Data'!AQ56/1000 -> 26095.348
A8: Equity market cap per share ($) | B8: ='Quarterly Data'!B56/'Quarterly Data'!B54 -> 75.03 | C8: ='Quarterly Data'!C56/'Quarterly Data'!C54 -> 68.88 | D8: ='Quarterly Data'!D56/'Quarterly Data'!D54 -> 64.33 | E8: ='Quarterly Data'!E56/'Quarterly Data'!E54 -> 64.36 | F8: ='Quarterly Data'!F56/'Quarterly Data'!F54 -> 62.22 | G8: ='Quarterly Data'!G56/'Quarterly Data'!G54 -> 65.83 | H8: ='Quarterly Data'!H56/'Quarterly Data'!H54 -> 65.93 | I8: ='Quarterly Data'!I56/'Quarterly Data'!I54 -> 63.77 | ... AQ8: ='Quarterly Data'!AQ56/'Quarterly Data'!AQ54 -> 67.93
A9: TEV ($M) | B9: ='Quarterly Data'!B63/1000 -> 37147.504 | C9: ='Quarterly Data'!C63/1000 -> 34740.445 | D9: ='Quarterly Data'!D63/1000 -> 32999.801 | E9: ='Quarterly Data'!E63/1000 -> 33513.325 | F9: ='Quarterly Data'!F63/1000 -> 32670.862 | G9: ='Quarterly Data'!G63/1000 -> 34090.163 | H9: ='Quarterly Data'!H63/1000 -> 34166.846 | I9: ='Quarterly Data'!I63/1000 -> 33341.097 | ... AQ9: ='Quarterly Data'!AQ63/1000 -> 34374.172
A10: TEV per share ($) | B10: ='Quarterly Data'!B63/'Quarterly Data'!B54 -> 97.705166 | C10: ='Quarterly Data'!C63/'Quarterly Data'!C54 -> 91.360195 | D10: ='Quarterly Data'!D63/'Quarterly Data'!D54 -> 86.776499 | E10: ='Quarterly Data'!E63/'Quarterly Data'!E54 -> 88.077764 | F10: ='Quarterly Data'!F63/'Quarterly Data'!F54 -> 85.758119 | G10: ='Quarterly Data'!G63/'Quarterly Data'!G54 -> 89.448518 | H10: ='Quarterly Data'!H63/'Quarterly Data'!H54 -> 89.612675 | I10: ='Quarterly Data'!I63/'Quarterly Data'!I54 -> 87.329163 | ... AQ10: ='Quarterly Data'!AQ63/'Quarterly Data'!AQ54 -> 89.480987
A12: NOI: net income to NOI (own-vintage discrete quarter)
A13: Net income | B13: ='Quarterly Data'!B5/'Quarterly Data'!B51 -> 9.7629806 | C13: ='Quarterly Data'!C5/'Quarterly Data'!C51 -> 0.59780404 | D13: ='Quarterly Data'!D5/'Quarterly Data'!D51 -> 0.56879539 | E13: ='Quarterly Data'!E5/'Quarterly Data'!E51 -> 0.79186351 | F13: ='Quarterly Data'!F5/'Quarterly Data'!F51 -> 0.39222821 | G13: ='Quarterly Data'!G5/'Quarterly Data'!G51 -> 0.53348385 | H13: ='Quarterly Data'!H5/'Quarterly Data'!H51 -> 0.37654493 | I13: ='Quarterly Data'!I5/'Quarterly Data'!I51 -> 0.33955182 | ... AQ13: ='Quarterly Data'!AQ5/'Quarterly Data'!AQ51 -> 0.30671203
A14: Add: property management | B14: ='Quarterly Data'!B7/'Quarterly Data'!B51 -> 0.061466135 | C14: ='Quarterly Data'!C7/'Quarterly Data'!C51 -> 0.054940913 | D14: ='Quarterly Data'!D7/'Quarterly Data'!D51 -> 0.051041784 | E14: ='Quarterly Data'!E7/'Quarterly Data'!E51 -> 0.04716912 | F14: ='Quarterly Data'!F7/'Quarterly Data'!F51 -> 0.058208643 | G14: ='Quarterly Data'!G7/'Quarterly Data'!G51 -> 0.056413513 | H14: ='Quarterly Data'!H7/'Quarterly Data'!H51 -> 0.054475186 | I14: ='Quarterly Data'!I7/'Quarterly Data'!I51 -> 0.054269717 | ... AQ14: ='Quarterly Data'!AQ7/'Quarterly Data'!AQ51 -> 0.099377927
A15: Add: general and administrative | B15: ='Quarterly Data'!B8/'Quarterly Data'!B51 -> 0.04373396 | C15: ='Quarterly Data'!C8/'Quarterly Data'!C51 -> 0.04788714 | D15: ='Quarterly Data'!D8/'Quarterly Data'!D51 -> 0.032415992 | E15: ='Quarterly Data'!E8/'Quarterly Data'!E51 -> 0.027318913 | F15: ='Quarterly Data'!F8/'Quarterly Data'!F51 -> 0.037074919 | G15: ='Quarterly Data'!G8/'Quarterly Data'!G51 -> 0.035605657 | H15: ='Quarterly Data'!H8/'Quarterly Data'!H51 -> 0.032816723 | I15: ='Quarterly Data'!I8/'Quarterly Data'!I51 -> 0.03095235 | ... AQ15: ='Quarterly Data'!AQ8/'Quarterly Data'!AQ51 -> 0.043347105
A16: Add: depreciation | B16: ='Quarterly Data'!B9/'Quarterly Data'!B51 -> 0.45229082 | C16: ='Quarterly Data'!C9/'Quarterly Data'!C51 -> 0.460987 | D16: ='Quarterly Data'!D9/'Quarterly Data'!D51 -> 0.46873079 | E16: ='Quarterly Data'!E9/'Quarterly Data'!E51 -> 0.4645865 | F16: ='Quarterly Data'!F9/'Quarterly Data'!F51 -> 0.46815946 | G16: ='Quarterly Data'!G9/'Quarterly Data'!G51 -> 0.47008038 | H16: ='Quarterly Data'!H9/'Quarterly Data'!H51 -> 0.48074789 | I16: ='Quarterly Data'!I9/'Quarterly Data'!I51 -> 0.52409914 | ... AQ16: ='Quarterly Data'!AQ9/'Quarterly Data'!AQ51 -> 0.64181589
A17: Add: interest expense incurred, net | B17: ='Quarterly Data'!B10/'Quarterly Data'!B51 -> 0.55852429 | C17: ='Quarterly Data'!C10/'Quarterly Data'!C51 -> 0.22632798 | D17: ='Quarterly Data'!D10/'Quarterly Data'!D51 -> 0.22583184 | E17: ='Quarterly Data'!E10/'Quarterly Data'!E51 -> 0.25121772 | F17: ='Quarterly Data'!F10/'Quarterly Data'!F51 -> 0.277833 | G17: ='Quarterly Data'!G10/'Quarterly Data'!G51 -> 0.23837446 | H17: ='Quarterly Data'!H10/'Quarterly Data'!H51 -> 0.23801068 | I17: ='Quarterly Data'!I10/'Quarterly Data'!I51 -> 0.24878558 | ... AQ17: ='Quarterly Data'!AQ10/'Quarterly Data'!AQ51 -> 0.21481304
A18: Add: amortization of deferred financing costs | B18: ='Quarterly Data'!B11/'Quarterly Data'!B51 -> 0.014111442 | C18: ='Quarterly Data'!C11/'Quarterly Data'!C51 -> 0.0061376991 | D18: ='Quarterly Data'!D11/'Quarterly Data'!D51 -> 0.0059130744 | E18: ='Quarterly Data'!E11/'Quarterly Data'!E51 -> 0.0068951972 | F18: ='Quarterly Data'!F11/'Quarterly Data'!F51 -> 0.0060060689 | G18: ='Quarterly Data'!G11/'Quarterly Data'!G51 -> 0.0054534717 | H18: ='Quarterly Data'!H11/'Quarterly Data'!H51 -> 0.0053898079 | I18: ='Quarterly Data'!I11/'Quarterly Data'!I51 -> 0.0054267107 | ... AQ18: ='Quarterly Data'!AQ11/'Quarterly Data'!AQ51 -> 0.0055877128
A19: Add/Less: net (gain) loss on sales of real estate properties | B19: ='Quarterly Data'!B12/'Quarterly Data'!B51 -> -9.7411306 | C19: ='Quarterly Data'!C12/'Quarterly Data'!C51 -> -0.15012105 | D19: ='Quarterly Data'!D12/'Quarterly Data'!D51 -> -0.23546642 | E19: ='Quarterly Data'!E12/'Quarterly Data'!E51 -> -0.45352747 | F19: ='Quarterly Data'!F12/'Quarterly Data'!F51 -> -0.096021241 | G19: ='Quarterly Data'!G12/'Quarterly Data'!G51 -> -0.22923395 | H19: ='Quarterly Data'!H12/'Quarterly Data'!H51 -> -0.045249318 | I19: ='Quarterly Data'!I12/'Quarterly Data'!I51 -> -0.039926391 | ... AQ19: ='Quarterly Data'!AQ12/'Quarterly Data'!AQ51 -> 0.043618024
A20: Add/Less: investments in unconsolidated entities (income) loss | B20: ='Quarterly Data'!B13/'Quarterly Data'!B51 -> 0.0028882151 | C20: ='Quarterly Data'!C13/'Quarterly Data'!C51 -> 0.0020938845 | D20: ='Quarterly Data'!D13/'Quarterly Data'!D51 -> -0.020268167 | E20: ='Quarterly Data'!E13/'Quarterly Data'!E51 -> 0.002736605 | F20: ='Quarterly Data'!F13/'Quarterly Data'!F51 -> 0.0028068432 | G20: ='Quarterly Data'!G13/'Quarterly Data'!G51 -> 0.001782112 | H20: ='Quarterly Data'!H13/'Quarterly Data'!H51 -> 0.0010393137 | I20: ='Quarterly Data'!I13/'Quarterly Data'!I51 -> 0.0031766748 | ... AQ20: ='Quarterly Data'!AQ13/'Quarterly Data'!AQ51 -> 0.0060383768
A21: Add/Less: net (gain) loss on sales of land parcels | B21: ='Quarterly Data'!B14/'Quarterly Data'!B51 -> -0.030666356 | C21: ='Quarterly Data'!C14/'Quarterly Data'!C51 -> 0 | D21: ='Quarterly Data'!D14/'Quarterly Data'!D51 -> -0.010557754 | E21: ='Quarterly Data'!E14/'Quarterly Data'!E51 -> 7.3325302e-05 | F21: ='Quarterly Data'!F14/'Quarterly Data'!F51 -> -0.050206655 | G21: ='Quarterly Data'!G14/'Quarterly Data'!G51 -> 6.0100551e-05 | H21: ='Quarterly Data'!H14/'Quarterly Data'!H51 -> 0 | I21: ='Quarterly Data'!I14/'Quarterly Data'!I51 -> 7.8307514e-06 | ... AQ21: ='Quarterly Data'!AQ14/'Quarterly Data'!AQ51 -> 0
A22: Less/Add: interest and other income | B22: ='Quarterly Data'!B15/'Quarterly Data'!B51 -> -0.0080001465 | C22: ='Quarterly Data'!C15/'Quarterly Data'!C51 -> -0.14794603 | D22: ='Quarterly Data'!D15/'Quarterly Data'!D51 -> -0.014407398 | E22: ='Quarterly Data'!E15/'Quarterly Data'!E51 -> -0.0017833761 | F22: ='Quarterly Data'!F15/'Quarterly Data'!F51 -> -0.0015721461 | G22: ='Quarterly Data'!G15/'Quarterly Data'!G51 -> -0.0030363844 | H22: ='Quarterly Data'!H15/'Quarterly Data'!H51 -> -0.01030174 | I22: ='Quarterly Data'!I15/'Quarterly Data'!I51 -> -0.0011171872 | ... AQ22: ='Quarterly Data'!AQ15/'Quarterly Data'!AQ51 -> -0.033745096
A23: Add: other expenses | B23: ='Quarterly Data'!B16/'Quarterly Data'!B51 -> 0.0066868458 | C23: ='Quarterly Data'!C16/'Quarterly Data'!C51 -> 0.003936503 | D23: ='Quarterly Data'!D16/'Quarterly Data'!D51 -> 0.027250878 | E23: ='Quarterly Data'!E16/'Quarterly Data'!E51 -> -0.010768344 | F23: ='Quarterly Data'!F16/'Quarterly Data'!F51 -> 0.0028513132 | G23: ='Quarterly Data'!G16/'Quarterly Data'!G51 -> 0.0027228163 | H23: ='Quarterly Data'!H16/'Quarterly Data'!H51 -> 0.0026844586 | I23: ='Quarterly Data'!I16/'Quarterly Data'!I51 -> 0.0052883674 | ... AQ23: ='Quarterly Data'!AQ16/'Quarterly Data'!AQ51 -> 0.026060363
A24: Add: income and other tax expense (benefit) | B24: ='Quarterly Data'!B17/'Quarterly Data'!B51 -> 0.0009156479 | C24: ='Quarterly Data'!C17/'Quarterly Data'!C51 -> 0.0010809679 | D24: ='Quarterly Data'!D17/'Quarterly Data'!D51 -> 0.0011140954 | E24: ='Quarterly Data'!E17/'Quarterly Data'!E51 -> 0.0011103546 | F24: ='Quarterly Data'!F17/'Quarterly Data'!F51 -> 0.00068536152 | G24: ='Quarterly Data'!G17/'Quarterly Data'!G51 -> 0.00057487483 | H24: ='Quarterly Data'!H17/'Quarterly Data'!H51 -> 0.00059538576 | I24: ='Quarterly Data'!I17/'Quarterly Data'!I51 -> -0.00060557811 | ... AQ24: ='Quarterly Data'!AQ17/'Quarterly Data'!AQ51 -> 0.0010706527
A25: Add/Less: impairment, pursuit write-offs, unconsolidated-entity sales and other items | B25: =('Quarterly Data'!B18+'Quarterly Data'!B19+'Quarterly Data'!B20+'Quarterly Data'!B21)/'Quarterly Data'!B51 -> -0.0072231539 | C25: =('Quarterly Data'!C18+'Quarterly Data'!C19+'Quarterly Data'!C20+'Quarterly Data'!C21)/'Quarterly Data'!C51 -> -0.00065433892 | D25: =('Quarterly Data'!D18+'Quarterly Data'!D19+'Quarterly Data'!D20+'Quarterly Data'!D21)/'Quarterly Data'!D51 -> -0.0012134748 | E25: =('Quarterly Data'!E18+'Quarterly Data'!E19+'Quarterly Data'!E20+'Quarterly Data'!E21)/'Quarterly Data'!E51 -> -0.0015974441 | F25: =('Quarterly Data'!F18+'Quarterly Data'!F19+'Quarterly Data'!F20+'Quarterly Data'!F21)/'Quarterly Data'!F51 -> -0.00047085906 | G25: =('Quarterly Data'!G18+'Quarterly Data'!G19+'Quarterly Data'!G20+'Quarterly Data'!G21)/'Quarterly Data'!G51 -> -0.0004729652 | H25: =('Quarterly Data'!H18+'Quarterly Data'!H19+'Quarterly Data'!H20+'Quarterly Data'!H21)/'Quarterly Data'!H51 -> -0.00044653932 | I25: =('Quarterly Data'!I18+'Quarterly Data'!I19+'Quarterly Data'!I20+'Quarterly Data'!I21)/'Quarterly Data'!I51 -> 0.0039362577 | ... AQ25: =('Quarterly Data'!AQ18+'Quarterly Data'!AQ19+'Quarterly Data'!AQ20+'Quarterly Data'!AQ21)/'Quarterly Data'!AQ51 -> 0
A26: NOI (derived; ties to published, Quarterly Data row 24) | B26: ='Quarterly Data'!B22/'Quarterly Data'!B51 -> 1.1165777 | C26: ='Quarterly Data'!C22/'Quarterly Data'!C51 -> 1.1024747 | D26: ='Quarterly Data'!D22/'Quarterly Data'!D51 -> 1.0991806 | E26: ='Quarterly Data'!E22/'Quarterly Data'!E51 -> 1.1252946 | F26: ='Quarterly Data'!F22/'Quarterly Data'!F51 -> 1.0975829 | G26: ='Quarterly Data'!G22/'Quarterly Data'!G51 -> 1.1118079 | H26: ='Quarterly Data'!H22/'Quarterly Data'!H51 -> 1.1363068 | I26: ='Quarterly Data'!I22/'Quarterly Data'!I51 -> 1.1738453 | ... AQ26: ='Quarterly Data'!AQ22/'Quarterly Data'!AQ51 -> 1.354696
A27: Implied cap rate (NOI per share x4 / TEV per share) | B27: =B26*4/B10 -> 0.045712124 | C27: =C26*4/C10 -> 0.048269368 | D27: =D26*4/D10 -> 0.050667204 | E27: =E26*4/E10 -> 0.051104595 | F27: =F26*4/F10 -> 0.051194356 | G27: =G26*4/G10 -> 0.049718339 | H27: =H26*4/H10 -> 0.050720806 | I27: =I26*4/I10 -> 0.053766474 | ... AQ27: =AQ26*4/AQ10 -> 0.060557938
A28: Per-share yield calculation; may differ slightly from the whole-dollar equivalent because flow metrics use weighted average diluted shares while capitalization uses period-end share counts.
A30: FFO, Normalized FFO, AFFO
A31: Net income available to Common Shares | B31: ='Quarterly Data'!B6/'Quarterly Data'!B51 -> 9.3840437 | C31: ='Quarterly Data'!C6/'Quarterly Data'!C51 -> 0.5707589 | D31: ='Quarterly Data'!D6/'Quarterly Data'!D51 -> 0.54277629 | E31: ='Quarterly Data'!E6/'Quarterly Data'!E51 -> 0.72402713 | F31: ='Quarterly Data'!F6/'Quarterly Data'!F51 -> 0 | G31: ='Quarterly Data'!G6/'Quarterly Data'!G51 -> 0 | H31: ='Quarterly Data'!H6/'Quarterly Data'!H51 -> 0 | I31: ='Quarterly Data'!I6/'Quarterly Data'!I51 -> 0 | ... AQ31: ='Quarterly Data'!AQ6/'Quarterly Data'!AQ51 -> 0.29639625
A32: EQR publishes FFO and Normalized FFO directly (Consolidated Statements of FFO and Normalized FFO); the derivation walk is not reproduced here.
A38: FFO (as published) | B38: ='Quarterly Data'!B26/'Quarterly Data'!B51 -> 0.46702229 | C38: ='Quarterly Data'!C26/'Quarterly Data'!C51 -> 0.90213969 | D38: ='Quarterly Data'!D26/'Quarterly Data'!D51 -> 0.77178566 | E38: ='Quarterly Data'!E26/'Quarterly Data'!E51 -> 0.79931912 | F38: ='Quarterly Data'!F26/'Quarterly Data'!F51 -> 0.75752067 | G38: ='Quarterly Data'!G26/'Quarterly Data'!G51 -> 0.76776886 | H38: ='Quarterly Data'!H26/'Quarterly Data'!H51 -> 0.80554127 | I38: ='Quarterly Data'!I26/'Quarterly Data'!I51 -> 0.81706582 | ... AQ38: ='Quarterly Data'!AQ26/'Quarterly Data'!AQ51 -> 0.99630872
A39: FFO per share x4 / market cap per share | B39: =B38*4/B8 -> 0.024897896 | C39: =C38*4/C8 -> 0.052389064 | D39: =D38*4/D8 -> 0.04798916 | E39: =E38*4/E8 -> 0.049678006 | F39: =F38*4/F8 -> 0.048699496 | G39: =G38*4/G8 -> 0.046651609 | H39: =H38*4/H8 -> 0.048872517 | I39: =I38*4/I8 -> 0.051250796 | ... AQ39: =AQ38*4/AQ8 -> 0.058666788
A40: Per-share yield calculation; may differ slightly from the whole-dollar equivalent because flow metrics use weighted average diluted shares while capitalization uses period-end share counts.
A41: Add/Less: normalization adjustments, net (sign varies) | B41: ='Quarterly Data'!B28/'Quarterly Data'!B51 -> 0.29029963 | C41: ='Quarterly Data'!C28/'Quarterly Data'!C51 -> -0.14216691 | D41: ='Quarterly Data'!D28/'Quarterly Data'!D51 -> 0.0054397146 | E41: ='Quarterly Data'!E28/'Quarterly Data'!E51 -> -0.0068297282 | F41: ='Quarterly Data'!F28/'Quarterly Data'!F51 -> -0.015339542 | G41: ='Quarterly Data'!G28/'Quarterly Data'!G51 -> 0.00018814085 | H41: ='Quarterly Data'!H28/'Quarterly Data'!H51 -> -0.0095052814 | I41: ='Quarterly Data'!I28/'Quarterly Data'!I51 -> 0.009827593 | ... AQ41: ='Quarterly Data'!AQ28/'Quarterly Data'!AQ51 -> 0.028415278
A42: Normalized FFO (as published) | B42: ='Quarterly Data'!B27/'Quarterly Data'!B51 -> 0.75732191 | C42: ='Quarterly Data'!C27/'Quarterly Data'!C51 -> 0.75997278 | D42: ='Quarterly Data'!D27/'Quarterly Data'!D51 -> 0.77722538 | E42: ='Quarterly Data'!E27/'Quarterly Data'!E51 -> 0.79248939 | F42: ='Quarterly Data'!F27/'Quarterly Data'!F51 -> 0.74218112 | G42: ='Quarterly Data'!G27/'Quarterly Data'!G51 -> 0.767957 | H42: ='Quarterly Data'!H27/'Quarterly Data'!H51 -> 0.79603598 | I42: ='Quarterly Data'!I27/'Quarterly Data'!I51 -> 0.82689341 | ... AQ42: ='Quarterly Data'!AQ27/'Quarterly Data'!AQ51 -> 1.024724
A43: Normalized FFO per share x4 / market cap per share | B43: =B42*4/B8 -> 0.040374352 | C43: =C42*4/C8 -> 0.044133146 | D43: =D42*4/D8 -> 0.048327398 | E43: =E42*4/E8 -> 0.049253536 | F43: =F42*4/F8 -> 0.047713348 | G43: =G42*4/G8 -> 0.046663041 | H43: =H42*4/H8 -> 0.048295828 | I43: =I42*4/I8 -> 0.051867236 | ... AQ43: =AQ42*4/AQ8 -> 0.060339997
A44: Per-share yield calculation; may differ slightly from the whole-dollar equivalent because flow metrics use weighted average diluted shares while capitalization uses period-end share counts.
A45: Recurring capex, discrete quarter (YTD differenced) | J45: ='Quarterly Data'!J41/'Quarterly Data'!J51 -> 0 | K45: ='Quarterly Data'!K41/'Quarterly Data'!K51 -> 0 | L45: ='Quarterly Data'!L41/'Quarterly Data'!L51 -> 0 | M45: ='Quarterly Data'!M41/'Quarterly Data'!M51 -> 0 | N45: ='Quarterly Data'!N41/'Quarterly Data'!N51 -> 0 | O45: ='Quarterly Data'!O41/'Quarterly Data'!O51 -> 0 | P45: ='Quarterly Data'!P41/'Quarterly Data'!P51 -> 0 | Q45: ='Quarterly Data'!Q41/'Quarterly Data'!Q51 -> 0 | ... AQ45: ='Quarterly Data'!AQ41/'Quarterly Data'!AQ51 -> 0.24634389
A46: Recurring capex, discrete quarter (BI + Replacements through Q1 2024; published Recurring after) | B46: ='Quarterly Data'!B43/'Quarterly Data'!B51 -> 0.088692272 | C46: ='Quarterly Data'!C43/'Quarterly Data'!C51 -> 0.10612854 | D46: ='Quarterly Data'!D43/'Quarterly Data'!D51 -> 0.13102651 | E46: ='Quarterly Data'!E43/'Quarterly Data'!E51 -> 0.1247211 | F46: ='Quarterly Data'!F43/'Quarterly Data'!F51 -> 0.10279638 | G46: ='Quarterly Data'!G43/'Quarterly Data'!G51 -> 0.13065337 | H46: ='Quarterly Data'!H43/'Quarterly Data'!H51 -> 0.045369439 | I46: ='Quarterly Data'!I43/'Quarterly Data'!I51 -> 0.13215698 | ... AQ46: ='Quarterly Data'!AQ43/'Quarterly Data'!AQ51 -> 0.15365819
A47: 2016 and H1 2017 vintages include renovation spend inside Replacements (no split disclosed); flagged, see Sources.
A48: Recurring capex (per share) | B48: ='Quarterly Data'!B44/'Quarterly Data'!B51 -> 0.088692272 | C48: ='Quarterly Data'!C44/'Quarterly Data'!C51 -> 0.10612854 | D48: ='Quarterly Data'!D44/'Quarterly Data'!D51 -> 0.13102651 | E48: ='Quarterly Data'!E44/'Quarterly Data'!E51 -> 0.1247211 | F48: ='Quarterly Data'!F44/'Quarterly Data'!F51 -> 0.10279638 | G48: ='Quarterly Data'!G44/'Quarterly Data'!G51 -> 0.13065337 | H48: ='Quarterly Data'!H44/'Quarterly Data'!H51 -> 0.045369439 | I48: ='Quarterly Data'!I44/'Quarterly Data'!I51 -> 0.13215698 | ... AQ48: ='Quarterly Data'!AQ44/'Quarterly Data'!AQ51 -> 0.15365819
...

Sheet Quarterly Stabilized
A1: EQR: Quarterly Results Per Stabilized Share, Q1 2016 - Q2 2026
A2: Per share, $. Discrete quarters, not annualized, except the italic ratio rows: quarter x4 over the quarter-end denominator. Flow metrics divide by weighted average diluted Common Shares and Units less dev/land share equivalents (stabilized).
B4: Q1 16 | C4: Q2 16 | D4: Q3 16 | E4: Q4 16 | F4: Q1 17 | G4: Q2 17 | H4: Q3 17 | I4: Q4 17 | J4: Q1 18 | K4: Q2 18 | L4: Q3 18 | M4: Q4 18 | N4: Q1 19 | O4: Q2 19 | P4: Q3 19 | Q4: Q4 19 | R4: Q1 20 | S4: Q2 20 | T4: Q3 20 | U4: Q4 20 | V4: Q1 21 | W4: Q2 21 | X4: Q3 21 | Y4: Q4 21 | Z4: Q1 22 | AA4: Q2 22 | AB4: Q3 22 | AC4: Q4 22 | AD4: Q1 23 | AE4: Q2 23 | AF4: Q3 23 | AG4: Q4 23 | AH4: Q1 24 | AI4: Q2 24 | AJ4: Q3 24 | AK4: Q4 24 | AL4: Q1 25 | AM4: Q2 25 | AN4: Q3 25 | AO4: Q4 25 | AP4: Q1 26 | AQ4: Q2 26
A5: Capitalization at quarter end (quarter-end closing price from the supplemental Capital Structure page; every price denominator in this workbook uses quarter-end closes)
A6: Share price at quarter end ($) | B6: ='Quarterly Data'!B55 -> 75.03 | C6: ='Quarterly Data'!C55 -> 68.88 | D6: ='Quarterly Data'!D55 -> 64.33 | E6: ='Quarterly Data'!E55 -> 64.36 | F6: ='Quarterly Data'!F55 -> 62.22 | G6: ='Quarterly Data'!G55 -> 65.83 | H6: ='Quarterly Data'!H55 -> 65.93 | I6: ='Quarterly Data'!I55 -> 63.77 | ... AQ6: ='Quarterly Data'!AQ55 -> 67.93
A7: Stabilized Equity market cap ($M) | B7: ='Quarterly Data'!B72/1000 -> 27298.561 | C7: ='Quarterly Data'!C72/1000 -> 25254.003 | D7: ='Quarterly Data'!D72/1000 -> 23587.584 | E7: ='Quarterly Data'!E72/1000 -> 23732.803 | F7: ='Quarterly Data'!F72/1000 -> 22928.293 | G7: ='Quarterly Data'!G72/1000 -> 24650.497 | H7: ='Quarterly Data'!H72/1000 -> 24745.157 | I7: ='Quarterly Data'!I72/1000 -> 24084.016 | ... AQ7: ='Quarterly Data'!AQ72/1000 -> 25978.718
A8: Stabilized Equity market cap per stabilized share ($) | B8: ='Quarterly Data'!B72/'Quarterly Data'!B71 -> 75.03 | C8: ='Quarterly Data'!C72/'Quarterly Data'!C71 -> 68.88 | D8: ='Quarterly Data'!D72/'Quarterly Data'!D71 -> 64.33 | E8: ='Quarterly Data'!E72/'Quarterly Data'!E71 -> 64.36 | F8: ='Quarterly Data'!F72/'Quarterly Data'!F71 -> 62.22 | G8: ='Quarterly Data'!G72/'Quarterly Data'!G71 -> 65.83 | H8: ='Quarterly Data'!H72/'Quarterly Data'!H71 -> 65.93 | I8: ='Quarterly Data'!I72/'Quarterly Data'!I71 -> 63.77 | ... AQ8: ='Quarterly Data'!AQ72/'Quarterly Data'!AQ71 -> 67.93
A9: Stabilized TEV ($M) | B9: ='Quarterly Data'!B73/1000 -> 35919.659 | C9: ='Quarterly Data'!C73/1000 -> 33802.277 | D9: ='Quarterly Data'!D73/1000 -> 32123.651 | E9: ='Quarterly Data'!E73/1000 -> 32757.341 | F9: ='Quarterly Data'!F73/1000 -> 31895.498 | G9: ='Quarterly Data'!G73/1000 -> 33651.866 | H9: ='Quarterly Data'!H73/1000 -> 33774.709 | I9: ='Quarterly Data'!I73/1000 -> 33078.587 | ... AQ9: ='Quarterly Data'!AQ73/1000 -> 34257.542
A10: Stabilized TEV per stabilized share ($) | B10: ='Quarterly Data'!B73/'Quarterly Data'!B71 -> 98.725058 | C10: ='Quarterly Data'!C73/'Quarterly Data'!C71 -> 92.195318 | D10: ='Quarterly Data'!D73/'Quarterly Data'!D71 -> 87.610264 | E10: ='Quarterly Data'!E73/'Quarterly Data'!E71 -> 88.833269 | F10: ='Quarterly Data'!F73/'Quarterly Data'!F71 -> 86.554106 | G10: ='Quarterly Data'!G73/'Quarterly Data'!G71 -> 89.868466 | H10: ='Quarterly Data'!H73/'Quarterly Data'!H71 -> 89.987975 | I10: ='Quarterly Data'!I73/'Quarterly Data'!I71 -> 87.585953 | ... AQ10: ='Quarterly Data'!AQ73/'Quarterly Data'!AQ71 -> 89.577739
A12: NOI: net income to NOI (own-vintage discrete quarter)
A13: Net income | B13: ='Quarterly Data'!B5/'Quarterly Data'!B70 -> 10.199652 | C13: ='Quarterly Data'!C5/'Quarterly Data'!C70 -> 0.61990311 | D13: ='Quarterly Data'!D5/'Quarterly Data'!D70 -> 0.5898034 | E13: ='Quarterly Data'!E5/'Quarterly Data'!E70 -> 0.81699462 | F13: ='Quarterly Data'!F5/'Quarterly Data'!F70 -> 0.405445 | G13: ='Quarterly Data'!G5/'Quarterly Data'!G70 -> 0.54292965 | H13: ='Quarterly Data'!H5/'Quarterly Data'!H70 -> 0.38248558 | I13: ='Quarterly Data'!I5/'Quarterly Data'!I70 -> 0.34323998 | ... AQ13: ='Quarterly Data'!AQ5/'Quarterly Data'!AQ70 -> 0.30808998
A14: Add: property management | B14: ='Quarterly Data'!B7/'Quarterly Data'!B70 -> 0.064215345 | C14: ='Quarterly Data'!C7/'Quarterly Data'!C70 -> 0.056971919 | D14: ='Quarterly Data'!D7/'Quarterly Data'!D70 -> 0.052926972 | E14: ='Quarterly Data'!E7/'Quarterly Data'!E70 -> 0.04866611 | F14: ='Quarterly Data'!F7/'Quarterly Data'!F70 -> 0.060170081 | G14: ='Quarterly Data'!G7/'Quarterly Data'!G70 -> 0.057412364 | H14: ='Quarterly Data'!H7/'Quarterly Data'!H70 -> 0.055334625 | I14: ='Quarterly Data'!I7/'Quarterly Data'!I70 -> 0.054859186 | ... AQ14: ='Quarterly Data'!AQ7/'Quarterly Data'!AQ70 -> 0.099824397
A15: Add: general and administrative | B15: ='Quarterly Data'!B8/'Quarterly Data'!B70 -> 0.045690059 | C15: ='Quarterly Data'!C8/'Quarterly Data'!C70 -> 0.049657388 | D15: ='Quarterly Data'!D8/'Quarterly Data'!D70 -> 0.033613251 | E15: ='Quarterly Data'!E8/'Quarterly Data'!E70 -> 0.028185924 | F15: ='Quarterly Data'!F8/'Quarterly Data'!F70 -> 0.038324221 | G15: ='Quarterly Data'!G8/'Quarterly Data'!G70 -> 0.036236086 | H15: ='Quarterly Data'!H8/'Quarterly Data'!H70 -> 0.033334463 | I15: ='Quarterly Data'!I8/'Quarterly Data'!I70 -> 0.031288549 | ... AQ15: ='Quarterly Data'!AQ8/'Quarterly Data'!AQ70 -> 0.043541848
A16: Add: depreciation | B16: ='Quarterly Data'!B9/'Quarterly Data'!B70 -> 0.47252053 | C16: ='Quarterly Data'!C9/'Quarterly Data'!C70 -> 0.47802835 | D16: ='Quarterly Data'!D9/'Quarterly Data'!D70 -> 0.486043 | E16: ='Quarterly Data'!E9/'Quarterly Data'!E70 -> 0.47933092 | F16: ='Quarterly Data'!F9/'Quarterly Data'!F70 -> 0.48393489 | G16: ='Quarterly Data'!G9/'Quarterly Data'!G70 -> 0.47840357 | H16: ='Quarterly Data'!H9/'Quarterly Data'!H70 -> 0.48833251 | I16: ='Quarterly Data'!I9/'Quarterly Data'!I70 -> 0.52979182 | ... AQ16: ='Quarterly Data'!AQ9/'Quarterly Data'!AQ70 -> 0.64469934
A17: Add: interest expense incurred, net | B17: ='Quarterly Data'!B10/'Quarterly Data'!B70 -> 0.58350553 | C17: ='Quarterly Data'!C10/'Quarterly Data'!C70 -> 0.23469467 | D17: ='Quarterly Data'!D10/'Quarterly Data'!D70 -> 0.23417277 | E17: ='Quarterly Data'!E10/'Quarterly Data'!E70 -> 0.25919054 | F17: ='Quarterly Data'!F10/'Quarterly Data'!F70 -> 0.28719505 | G17: ='Quarterly Data'!G10/'Quarterly Data'!G70 -> 0.24259509 | H17: ='Quarterly Data'!H10/'Quarterly Data'!H70 -> 0.24176571 | I17: ='Quarterly Data'!I10/'Quarterly Data'!I70 -> 0.25148785 | ... AQ17: ='Quarterly Data'!AQ10/'Quarterly Data'!AQ70 -> 0.21577812
A18: Add: amortization of deferred financing costs | B18: ='Quarterly Data'!B11/'Quarterly Data'!B70 -> 0.014742608 | C18: ='Quarterly Data'!C11/'Quarterly Data'!C70 -> 0.0063645919 | D18: ='Quarterly Data'!D11/'Quarterly Data'!D70 -> 0.0061314692 | E18: ='Quarterly Data'!E11/'Quarterly Data'!E70 -> 0.0071140277 | F18: ='Quarterly Data'!F11/'Quarterly Data'!F70 -> 0.0062084535 | G18: ='Quarterly Data'!G11/'Quarterly Data'!G70 -> 0.0055500302 | H18: ='Quarterly Data'!H11/'Quarterly Data'!H70 -> 0.0054748414 | I18: ='Quarterly Data'!I11/'Quarterly Data'!I70 -> 0.0054856548 | ... AQ18: ='Quarterly Data'!AQ11/'Quarterly Data'!AQ70 -> 0.0056128164
A19: Add/Less: net (gain) loss on sales of real estate properties | B19: ='Quarterly Data'!B12/'Quarterly Data'!B70 -> -10.176824 | C19: ='Quarterly Data'!C12/'Quarterly Data'!C70 -> -0.15567059 | D19: ='Quarterly Data'!D12/'Quarterly Data'!D70 -> -0.24416318 | E19: ='Quarterly Data'!E12/'Quarterly Data'!E70 -> -0.46792092 | F19: ='Quarterly Data'!F12/'Quarterly Data'!F70 -> -0.099256838 | G19: ='Quarterly Data'!G12/'Quarterly Data'!G70 -> -0.23329274 | H19: ='Quarterly Data'!H12/'Quarterly Data'!H70 -> -0.045963203 | I19: ='Quarterly Data'!I12/'Quarterly Data'!I70 -> -0.040360065 | ... AQ19: ='Quarterly Data'!AQ12/'Quarterly Data'!AQ70 -> 0.043813985
A20: Add/Less: investments in unconsolidated entities (income) loss | B20: ='Quarterly Data'!B13/'Quarterly Data'!B70 -> 0.0030173969 | C20: ='Quarterly Data'!C13/'Quarterly Data'!C70 -> 0.0021712894 | D20: ='Quarterly Data'!D13/'Quarterly Data'!D70 -> -0.021016756 | E20: ='Quarterly Data'!E13/'Quarterly Data'!E70 -> 0.0028234558 | F20: ='Quarterly Data'!F13/'Quarterly Data'!F70 -> 0.0029014245 | G20: ='Quarterly Data'!G13/'Quarterly Data'!G70 -> 0.0018136658 | H20: ='Quarterly Data'!H13/'Quarterly Data'!H70 -> 0.0010557107 | I20: ='Quarterly Data'!I13/'Quarterly Data'!I70 -> 0.0032111793 | ... AQ20: ='Quarterly Data'!AQ13/'Quarterly Data'!AQ70 -> 0.0060655051
A21: Add/Less: net (gain) loss on sales of land parcels | B21: ='Quarterly Data'!B14/'Quarterly Data'!B70 -> -0.032037977 | C21: ='Quarterly Data'!C14/'Quarterly Data'!C70 -> 0 | D21: ='Quarterly Data'!D14/'Quarterly Data'!D70 -> -0.010947696 | E21: ='Quarterly Data'!E14/'Quarterly Data'!E70 -> 7.5652403e-05 | F21: ='Quarterly Data'!F14/'Quarterly Data'!F70 -> -0.051898453 | G21: ='Quarterly Data'!G14/'Quarterly Data'!G70 -> 6.1164684e-05 | H21: ='Quarterly Data'!H14/'Quarterly Data'!H70 -> 0 | I21: ='Quarterly Data'!I14/'Quarterly Data'!I70 -> 7.9158077e-06 | ... AQ21: ='Quarterly Data'!AQ14/'Quarterly Data'!AQ70 -> 0
A22: Less/Add: interest and other income | B22: ='Quarterly Data'!B15/'Quarterly Data'!B70 -> -0.0083579709 | C22: ='Quarterly Data'!C15/'Quarterly Data'!C70 -> -0.15341516 | D22: ='Quarterly Data'!D15/'Quarterly Data'!D70 -> -0.014939524 | E22: ='Quarterly Data'!E15/'Quarterly Data'!E70 -> -0.0018399745 | F22: ='Quarterly Data'!F15/'Quarterly Data'!F70 -> -0.0016251222 | G22: ='Quarterly Data'!G15/'Quarterly Data'!G70 -> -0.0030901462 | H22: ='Quarterly Data'!H15/'Quarterly Data'!H70 -> -0.010464268 | I22: ='Quarterly Data'!I15/'Quarterly Data'!I70 -> -0.0011293219 | ... AQ22: ='Quarterly Data'!AQ15/'Quarterly Data'!AQ70 -> -0.033896701
A23: Add: other expenses | B23: ='Quarterly Data'!B16/'Quarterly Data'!B70 -> 0.0069859299 | C23: ='Quarterly Data'!C16/'Quarterly Data'!C70 -> 0.004082024 | D23: ='Quarterly Data'!D16/'Quarterly Data'!D70 -> 0.028257368 | E23: ='Quarterly Data'!E16/'Quarterly Data'!E70 -> -0.011110096 | F23: ='Quarterly Data'!F16/'Quarterly Data'!F70 -> 0.002947393 | G23: ='Quarterly Data'!G16/'Quarterly Data'!G70 -> 0.0027710261 | H23: ='Quarterly Data'!H16/'Quarterly Data'!H70 -> 0.0027268105 | I23: ='Quarterly Data'!I16/'Quarterly Data'!I70 -> 0.0053458088 | ... AQ23: ='Quarterly Data'!AQ16/'Quarterly Data'!AQ70 -> 0.026177443
A24: Add: income and other tax expense (benefit) | B24: ='Quarterly Data'!B17/'Quarterly Data'!B70 -> 0.00095660229 | C24: ='Quarterly Data'!C17/'Quarterly Data'!C70 -> 0.0011209281 | D24: ='Quarterly Data'!D17/'Quarterly Data'!D70 -> 0.0011552436 | E24: ='Quarterly Data'!E17/'Quarterly Data'!E70 -> 0.0011455935 | F24: ='Quarterly Data'!F17/'Quarterly Data'!F70 -> 0.00070845593 | G24: ='Quarterly Data'!G17/'Quarterly Data'!G70 -> 0.0005850535 | H24: ='Quarterly Data'!H17/'Quarterly Data'!H70 -> 0.00060477899 | I24: ='Quarterly Data'!I17/'Quarterly Data'!I70 -> -0.0006121558 | ... AQ24: ='Quarterly Data'!AQ17/'Quarterly Data'!AQ70 -> 0.0010754627
A25: Add/Less: impairment, pursuit write-offs, unconsolidated-entity sales and other items | B25: =('Quarterly Data'!B18+'Quarterly Data'!B19+'Quarterly Data'!B20+'Quarterly Data'!B21)/'Quarterly Data'!B70 -> -0.0075462255 | C25: =('Quarterly Data'!C18+'Quarterly Data'!C19+'Quarterly Data'!C20+'Quarterly Data'!C21)/'Quarterly Data'!C70 -> -0.00067852792 | D25: =('Quarterly Data'!D18+'Quarterly Data'!D19+'Quarterly Data'!D20+'Quarterly Data'!D21)/'Quarterly Data'!D70 -> -0.0012582935 | E25: =('Quarterly Data'!E18+'Quarterly Data'!E19+'Quarterly Data'!E20+'Quarterly Data'!E21)/'Quarterly Data'!E70 -> -0.0016481416 | F25: =('Quarterly Data'!F18+'Quarterly Data'!F19+'Quarterly Data'!F20+'Quarterly Data'!F21)/'Quarterly Data'!F70 -> -0.00048672545 | G25: =('Quarterly Data'!G18+'Quarterly Data'!G19+'Quarterly Data'!G20+'Quarterly Data'!G21)/'Quarterly Data'!G70 -> -0.00048133947 | H25: =('Quarterly Data'!H18+'Quarterly Data'!H19+'Quarterly Data'!H20+'Quarterly Data'!H21)/'Quarterly Data'!H70 -> -0.00045358424 | I25: =('Quarterly Data'!I18+'Quarterly Data'!I19+'Quarterly Data'!I20+'Quarterly Data'!I21)/'Quarterly Data'!I70 -> 0.0039790127 | ... AQ25: =('Quarterly Data'!AQ18+'Quarterly Data'!AQ19+'Quarterly Data'!AQ20+'Quarterly Data'!AQ21)/'Quarterly Data'!AQ70 -> 0
A26: NOI (derived; ties to published, Quarterly Data row 24) | B26: ='Quarterly Data'!B22/'Quarterly Data'!B70 -> 1.1665191 | C26: ='Quarterly Data'!C22/'Quarterly Data'!C70 -> 1.14323 | D26: ='Quarterly Data'!D22/'Quarterly Data'!D70 -> 1.139778 | E26: ='Quarterly Data'!E22/'Quarterly Data'!E70 -> 1.1610077 | F26: ='Quarterly Data'!F22/'Quarterly Data'!F70 -> 1.1345678 | G26: ='Quarterly Data'!G22/'Quarterly Data'!G70 -> 1.1314935 | H26: ='Quarterly Data'!H22/'Quarterly Data'!H70 -> 1.154234 | I26: ='Quarterly Data'!I22/'Quarterly Data'!I70 -> 1.1865954 | ... AQ26: ='Quarterly Data'!AQ22/'Quarterly Data'!AQ70 -> 1.3607822
A27: Implied cap rate (NOI per share x4 / stabilized TEV per share) | B27: =B26*4/B10 -> 0.047263344 | C27: =C26*4/C10 -> 0.049600349 | D27: =D26*4/D10 -> 0.052038561 | E27: =E26*4/E10 -> 0.052278059 | F27: =F26*4/F10 -> 0.052432768 | G27: =G26*4/G10 -> 0.050362203 | H27: =H26*4/H10 -> 0.051306143 | I27: =I26*4/I10 -> 0.054191129 | ... AQ27: =AQ26*4/AQ10 -> 0.060764302
A28: Per-share yield calculation; may differ slightly from the whole-dollar equivalent because flow metrics use weighted average diluted shares while capitalization uses period-end share counts.
A30: FFO, Normalized FFO, AFFO
A31: Net income available to Common Shares | B31: ='Quarterly Data'!B6/'Quarterly Data'!B70 -> 9.8037659 | C31: ='Quarterly Data'!C6/'Quarterly Data'!C70 -> 0.59185819 | D31: ='Quarterly Data'!D6/'Quarterly Data'!D70 -> 0.56282331 | E31: ='Quarterly Data'!E6/'Quarterly Data'!E70 -> 0.74700534 | F31: ='Quarterly Data'!F6/'Quarterly Data'!F70 -> 0 | G31: ='Quarterly Data'!G6/'Quarterly Data'!G70 -> 0 | H31: ='Quarterly Data'!H6/'Quarterly Data'!H70 -> 0 | I31: ='Quarterly Data'!I6/'Quarterly Data'!I70 -> 0 | ... AQ31: ='Quarterly Data'!AQ6/'Quarterly Data'!AQ70 -> 0.29772785
A32: EQR publishes FFO and Normalized FFO directly (Consolidated Statements of FFO and Normalized FFO); the derivation walk is not reproduced here.
A38: FFO (as published) | B38: ='Quarterly Data'!B26/'Quarterly Data'!B70 -> 0.4879109 | C38: ='Quarterly Data'!C26/'Quarterly Data'!C70 -> 0.93548916 | D38: ='Quarterly Data'!D26/'Quarterly Data'!D70 -> 0.80029096 | E38: ='Quarterly Data'!E26/'Quarterly Data'!E70 -> 0.82468684 | F38: ='Quarterly Data'!F26/'Quarterly Data'!F70 -> 0.7830466 | G38: ='Quarterly Data'!G26/'Quarterly Data'!G70 -> 0.78136288 | H38: ='Quarterly Data'!H26/'Quarterly Data'!H70 -> 0.81825006 | I38: ='Quarterly Data'!I26/'Quarterly Data'!I70 -> 0.82594066 | ... AQ38: ='Quarterly Data'!AQ26/'Quarterly Data'!AQ70 -> 1.0007848
A39: FFO per share x4 / stabilized market cap per share | B39: =B38*4/B8 -> 0.02601151 | C39: =C38*4/C8 -> 0.054325735 | D39: =D38*4/D8 -> 0.049761602 | E39: =E38*4/E8 -> 0.051254621 | F39: =F38*4/F8 -> 0.050340508 | G39: =G38*4/G8 -> 0.047477617 | H39: =H38*4/H8 -> 0.049643565 | I39: =I38*4/I8 -> 0.051807474 | ... AQ39: =AQ38*4/AQ8 -> 0.058930357
A40: Per-share yield calculation; may differ slightly from the whole-dollar equivalent because flow metrics use weighted average diluted shares while capitalization uses period-end share counts.
A41: Add/Less: normalization adjustments, net (sign varies) | B41: ='Quarterly Data'!B28/'Quarterly Data'!B70 -> 0.30328392 | C41: ='Quarterly Data'!C28/'Quarterly Data'!C70 -> -0.1474224 | D41: ='Quarterly Data'!D28/'Quarterly Data'!D70 -> 0.0056406262 | E41: ='Quarterly Data'!E28/'Quarterly Data'!E70 -> -0.007046481 | F41: ='Quarterly Data'!F28/'Quarterly Data'!F70 -> -0.015856433 | G41: ='Quarterly Data'!G28/'Quarterly Data'!G70 -> 0.00019147205 | H41: ='Quarterly Data'!H28/'Quarterly Data'!H70 -> -0.0096552436 | I41: ='Quarterly Data'!I28/'Quarterly Data'!I70 -> 0.0099343387 | ... AQ41: ='Quarterly Data'!AQ28/'Quarterly Data'!AQ70 -> 0.028542938
A42: Normalized FFO (as published) | B42: ='Quarterly Data'!B27/'Quarterly Data'!B70 -> 0.79119482 | C42: ='Quarterly Data'!C27/'Quarterly Data'!C70 -> 0.78806676 | D42: ='Quarterly Data'!D27/'Quarterly Data'!D70 -> 0.80593159 | E42: ='Quarterly Data'!E27/'Quarterly Data'!E70 -> 0.81764036 | F42: ='Quarterly Data'!F27/'Quarterly Data'!F70 -> 0.76719017 | G42: ='Quarterly Data'!G27/'Quarterly Data'!G70 -> 0.78155435 | H42: ='Quarterly Data'!H27/'Quarterly Data'!H70 -> 0.80859482 | I42: ='Quarterly Data'!I27/'Quarterly Data'!I70 -> 0.83587499 | ... AQ42: ='Quarterly Data'!AQ27/'Quarterly Data'!AQ70 -> 1.0293277
A43: Normalized FFO per share x4 / stabilized market cap per share | B43: =B42*4/B8 -> 0.042180185 | C43: =C42*4/C8 -> 0.04576462 | D43: =D42*4/D8 -> 0.050112333 | E43: =E42*4/E8 -> 0.050816679 | F43: =F42*4/F8 -> 0.049321129 | G43: =G42*4/G8 -> 0.047489251 | H43: =H42*4/H8 -> 0.049057777 | I43: =I42*4/I8 -> 0.05243061 | ... AQ43: =AQ42*4/AQ8 -> 0.060611083
A44: Per-share yield calculation; may differ slightly from the whole-dollar equivalent because flow metrics use weighted average diluted shares while capitalization uses period-end share counts.
A45: Recurring capex, discrete quarter (YTD differenced) | J45: ='Quarterly Data'!J41/'Quarterly Data'!J70 -> 0 | K45: ='Quarterly Data'!K41/'Quarterly Data'!K70 -> 0 | L45: ='Quarterly Data'!L41/'Quarterly Data'!L70 -> 0 | M45: ='Quarterly Data'!M41/'Quarterly Data'!M70 -> 0 | N45: ='Quarterly Data'!N41/'Quarterly Data'!N70 -> 0 | O45: ='Quarterly Data'!O41/'Quarterly Data'!O70 -> 0 | P45: ='Quarterly Data'!P41/'Quarterly Data'!P70 -> 0 | Q45: ='Quarterly Data'!Q41/'Quarterly Data'!Q70 -> 0 | ... AQ45: ='Quarterly Data'!AQ41/'Quarterly Data'!AQ70 -> 0.24745063
A46: Recurring capex, discrete quarter (BI + Replacements through Q1 2024; published Recurring after) | B46: ='Quarterly Data'!B43/'Quarterly Data'!B70 -> 0.092659231 | C46: ='Quarterly Data'!C43/'Quarterly Data'!C70 -> 0.1100518 | D46: ='Quarterly Data'!D43/'Quarterly Data'!D70 -> 0.13586587 | E46: ='Quarterly Data'!E43/'Quarterly Data'!E70 -> 0.12867933 | F46: ='Quarterly Data'!F43/'Quarterly Data'!F70 -> 0.10626028 | G46: ='Quarterly Data'!G43/'Quarterly Data'!G70 -> 0.1329667 | H46: ='Quarterly Data'!H43/'Quarterly Data'!H70 -> 0.04608522 | I46: ='Quarterly Data'!I43/'Quarterly Data'!I70 -> 0.13359245 | ... AQ46: ='Quarterly Data'!AQ43/'Quarterly Data'!AQ70 -> 0.15434853
A47: 2016 and H1 2017 vintages include renovation spend inside Replacements (no split disclosed); flagged, see Sources.
A48: Recurring capex (per share) | B48: ='Quarterly Data'!B44/'Quarterly Data'!B70 -> 0.092659231 | C48: ='Quarterly Data'!C44/'Quarterly Data'!C70 -> 0.1100518 | D48: ='Quarterly Data'!D44/'Quarterly Data'!D70 -> 0.13586587 | E48: ='Quarterly Data'!E44/'Quarterly Data'!E70 -> 0.12867933 | F48: ='Quarterly Data'!F44/'Quarterly Data'!F70 -> 0.10626028 | G48: ='Quarterly Data'!G44/'Quarterly Data'!G70 -> 0.1329667 | H48: ='Quarterly Data'!H44/'Quarterly Data'!H70 -> 0.04608522 | I48: ='Quarterly Data'!I44/'Quarterly Data'!I70 -> 0.13359245 | ... AQ48: ='Quarterly Data'!AQ44/'Quarterly Data'!AQ70 -> 0.15434853
...

Sheet CHARTS
A1: EQR: Quarterly Charts, As Reported
A2: As-reported denominators: weighted average diluted shares; market cap and TEV from price x shares+units.
A4: CAGR summary, Q1 2016 to Q2 2026 | F4: Trailing yields (as reported; quarterly figures annualized x4)
A5: Years: | B5: =(42-1)/4 -> 10.25
A6: Metric | B6: Whole company | C6: Per share | H6: TTM | I6: Q3 25 | J6: Q4 25 | K6: Q1 26 | L6: Q2 26
A7: AFFO | B7: =('Quarterly Data'!AQ45/'Quarterly Data'!B45)^(1/$B$5)-1 -> 0.026566817 | C7: =(('Quarterly Data'!AQ45/'Quarterly Data'!AQ51)/('Quarterly Data'!B45/'Quarterly Data'!B51))^(1/$B$5)-1 -> 0.026139427 | F7: AFFO / MKT CAP | H7: =SUM('Quarterly Data'!AN45:AQ45)/'Quarterly Data'!AQ56 -> 0.052385352 | I7: ='Quarterly Data'!AN45*4/'Quarterly Data'!AN56 -> 0.054746368 | J7: ='Quarterly Data'!AO45*4/'Quarterly Data'!AO56 -> 0.055964301 | K7: ='Quarterly Data'!AP45*4/'Quarterly Data'!AP56 -> 0.060846675 | L7: ='Quarterly Data'!AQ45*4/'Quarterly Data'!AQ56 -> 0.051255573
A8: EBITDAre | B8: =('Quarterly Data'!AQ35/'Quarterly Data'!B35)^(1/$B$5)-1 -> 0.01511363 | C8: =(('Quarterly Data'!AQ35/'Quarterly Data'!AQ51)/('Quarterly Data'!B35/'Quarterly Data'!B51))^(1/$B$5)-1 -> 0.014691009 | F8: FFO / MKT CAP | H8: =SUM('Quarterly Data'!AN26:AQ26)/'Quarterly Data'!AQ56 -> 0.057879435 | I8: ='Quarterly Data'!AN26*4/'Quarterly Data'!AN56 -> 0.064966314 | J8: ='Quarterly Data'!AO26*4/'Quarterly Data'!AO56 -> 0.061760544 | K8: ='Quarterly Data'!AP26*4/'Quarterly Data'!AP56 -> 0.060036412 | L8: ='Quarterly Data'!AQ26*4/'Quarterly Data'!AQ56 -> 0.058625162
A9: EBITDA | B9: =('Quarterly Data'!AQ30/'Quarterly Data'!B30)^(1/$B$5)-1 -> -0.19451929 | C9: =(('Quarterly Data'!AQ30/'Quarterly Data'!AQ51)/('Quarterly Data'!B30/'Quarterly Data'!B51))^(1/$B$5)-1 -> -0.19485463 | F9: EBITDAre / TEV | H9: =SUM('Quarterly Data'!AN35:AQ35)/'Quarterly Data'!AQ63 -> 0.053535341 | I9: ='Quarterly Data'!AN35*4/'Quarterly Data'!AN63 -> 0.058459203 | J9: ='Quarterly Data'!AO35*4/'Quarterly Data'!AO63 -> 0.05630345 | K9: ='Quarterly Data'!AP35*4/'Quarterly Data'!AP63 -> 0.054292146 | L9: ='Quarterly Data'!AQ35*4/'Quarterly Data'!AQ63 -> 0.054347084
A10: FFO | B10: =('Quarterly Data'!AQ26/'Quarterly Data'!B26)^(1/$B$5)-1 -> 0.077169141 | C10: =(('Quarterly Data'!AQ26/'Quarterly Data'!AQ51)/('Quarterly Data'!B26/'Quarterly Data'!B51))^(1/$B$5)-1 -> 0.076720685 | F10: NOI / TEV | H10: =SUM('Quarterly Data'!AN22:AQ22)/'Quarterly Data'!AQ63 -> 0.060705375 | I10: ='Quarterly Data'!AN22*4/'Quarterly Data'!AN63 -> 0.062411377 | J10: ='Quarterly Data'!AO22*4/'Quarterly Data'!AO63 -> 0.064734671 | K10: ='Quarterly Data'!AP22*4/'Quarterly Data'!AP63 -> 0.066064941 | L10: ='Quarterly Data'!AQ22*4/'Quarterly Data'!AQ63 -> 0.06051497
F11: Trailing yields above are computed on whole dollars (Quarterly Data); per-share yields on the Quarterly tabs may differ slightly (share-count basis).
A12: Single-quarter endpoints, seasonally unadjusted. 2016-2017 EBITDAre is derived (published from Q1 2018). 2026 figures include merger-related costs in FFO/EBITDAre (excluded from Normalized measures).
A13: Annual per share, 2016-2026 (2026 = first half annualized x2)
B14: 2016 | C14: 2017 | D14: 2018 | E14: 2019 | F14: 2020 | G14: 2021 | H14: 2022 | I14: 2023 | J14: 2024 | K14: 2025 | L14: 2026 ann.
A15: NOI | B15: =SUM('Quarterly Data'!B22:E22)/AVERAGE('Quarterly Data'!B51:E51) -> 4.4435131 | C15: =SUM('Quarterly Data'!F22:I22)/AVERAGE('Quarterly Data'!F51:I51) -> 4.5196294 | D15: =SUM('Quarterly Data'!J22:M22)/AVERAGE('Quarterly Data'!J51:M51) -> 4.6670337 | E15: =SUM('Quarterly Data'!N22:Q22)/AVERAGE('Quarterly Data'!N51:Q51) -> 4.8862237 | F15: =SUM('Quarterly Data'!R22:U22)/AVERAGE('Quarterly Data'!R51:U51) -> 4.5306714 | G15: =SUM('Quarterly Data'!V22:Y22)/AVERAGE('Quarterly Data'!V51:Y51) -> 4.1578496 | H15: =SUM('Quarterly Data'!Z22:AC22)/AVERAGE('Quarterly Data'!Z51:AC51) -> 4.7811613 | I15: =SUM('Quarterly Data'!AD22:AG22)/AVERAGE('Quarterly Data'!AD51:AG51) -> 4.980278 | J15: =SUM('Quarterly Data'!AH22:AK22)/AVERAGE('Quarterly Data'!AH51:AK51) -> 5.1640786 | K15: =SUM('Quarterly Data'!AL22:AO22)/AVERAGE('Quarterly Data'!AL51:AO51) -> 5.3221018 | L15: =SUM('Quarterly Data'!AP22:AQ22)*2/AVERAGE('Quarterly Data'!AP51:AQ51) -> 5.3743605
A16: EBITDAre | B16: =SUM('Quarterly Data'!B35:E35)/AVERAGE('Quarterly Data'!B51:E51) -> 4.2869377 | C16: =SUM('Quarterly Data'!F35:I35)/AVERAGE('Quarterly Data'!F51:I51) -> 4.2054523 | D16: =SUM('Quarterly Data'!J35:M35)/AVERAGE('Quarterly Data'!J51:M51) -> 4.2870494 | E16: =SUM('Quarterly Data'!N35:Q35)/AVERAGE('Quarterly Data'!N51:Q51) -> 4.4715084 | F16: =SUM('Quarterly Data'!R35:U35)/AVERAGE('Quarterly Data'!R51:U51) -> 4.219845 | G16: =SUM('Quarterly Data'!V35:Y35)/AVERAGE('Quarterly Data'!V51:Y51) -> 3.7315216 | H16: =SUM('Quarterly Data'!Z35:AC35)/AVERAGE('Quarterly Data'!Z51:AC51) -> 4.3164662 | I16: =SUM('Quarterly Data'!AD35:AG35)/AVERAGE('Quarterly Data'!AD51:AG51) -> 4.498157 | J16: =SUM('Quarterly Data'!AH35:AK35)/AVERAGE('Quarterly Data'!AH51:AK51) -> 4.5420936 | K16: =SUM('Quarterly Data'!AL35:AO35)/AVERAGE('Quarterly Data'!AL51:AO51) -> 4.7489802 | L16: =SUM('Quarterly Data'!AP35:AQ35)*2/AVERAGE('Quarterly Data'!AP51:AQ51) -> 4.6229814
A17: FFO | B17: =SUM('Quarterly Data'!B26:E26)/AVERAGE('Quarterly Data'!B51:E51) -> 2.940137 | C17: =SUM('Quarterly Data'!F26:I26)/AVERAGE('Quarterly Data'!F51:I51) -> 3.1479731 | D17: =SUM('Quarterly Data'!J26:M26)/AVERAGE('Quarterly Data'!J51:M51) -> 3.140494 | E17: =SUM('Quarterly Data'!N26:Q26)/AVERAGE('Quarterly Data'!N51:Q51) -> 3.3936001 | F17: =SUM('Quarterly Data'!R26:U26)/AVERAGE('Quarterly Data'!R51:U51) -> 3.2070687 | G17: =SUM('Quarterly Data'!V26:Y26)/AVERAGE('Quarterly Data'!V51:Y51) -> 2.9653362 | H17: =SUM('Quarterly Data'!Z26:AC26)/AVERAGE('Quarterly Data'!Z51:AC51) -> 3.5261733 | I17: =SUM('Quarterly Data'!AD26:AG26)/AVERAGE('Quarterly Data'!AD51:AG51) -> 3.7443384 | J17: =SUM('Quarterly Data'!AH26:AK26)/AVERAGE('Quarterly Data'!AH51:AK51) -> 3.7604745 | K17: =SUM('Quarterly Data'!AL26:AO26)/AVERAGE('Quarterly Data'!AL51:AO51) -> 3.9390396 | L17: =SUM('Quarterly Data'!AP26:AQ26)*2/AVERAGE('Quarterly Data'!AP51:AQ51) -> 3.7627317
A18: AFFO | B18: =SUM('Quarterly Data'!B45:E45)/AVERAGE('Quarterly Data'!B51:E51) -> 2.6364304 | C18: =SUM('Quarterly Data'!F45:I45)/AVERAGE('Quarterly Data'!F51:I51) -> 2.7221973 | D18: =SUM('Quarterly Data'!J45:M45)/AVERAGE('Quarterly Data'!J51:M51) -> 2.8712288 | E18: =SUM('Quarterly Data'!N45:Q45)/AVERAGE('Quarterly Data'!N51:Q51) -> 3.1312872 | F18: =SUM('Quarterly Data'!R45:U45)/AVERAGE('Quarterly Data'!R51:U51) -> 2.9592105 | G18: =SUM('Quarterly Data'!V45:Y45)/AVERAGE('Quarterly Data'!V51:Y51) -> 2.6781607 | H18: =SUM('Quarterly Data'!Z45:AC45)/AVERAGE('Quarterly Data'!Z51:AC51) -> 3.0815304 | I18: =SUM('Quarterly Data'!AD45:AG45)/AVERAGE('Quarterly Data'!AD51:AG51) -> 3.2222554 | J18: =SUM('Quarterly Data'!AH45:AK45)/AVERAGE('Quarterly Data'!AH51:AK51) -> 3.467225 | K18: =SUM('Quarterly Data'!AL45:AO45)/AVERAGE('Quarterly Data'!AL51:AO51) -> 3.493548 | L18: =SUM('Quarterly Data'!AP45:AQ45)*2/AVERAGE('Quarterly Data'!AP51:AQ51) -> 3.5365793
